BEGIN:VCALENDAR
BEGIN:VEVENT
DESCRIPTION:\nMore Information: https://tickets.sagharborcinema.org/websales/pages/TicketSearchCriteria.aspx?evtInfo=620364~bd26ead1-7722-4224-a8b5-ec4b638bcf23&\n\n
DTSTART:20260425T211500Z
DTEND:20260425T231300Z
LOCATION:Sag Harbor Cinema Theater 3, 90 Main Street, Sag Harbor, NY, 11963
SUMMARY:Two Prosecutors
UID:620364
DTSTAMP:20260425T094335Z
END:VEVENT
END:VCALENDAR
