BEGIN:VCALENDAR
BEGIN:VEVENT
DESCRIPTION:\nMore Information: https://tickets.sagharborcinema.org/websales/pages/TicketSearchCriteria.aspx?evtInfo=620361~bd26ead1-7722-4224-a8b5-ec4b638bcf23&\n\n
DTSTART:20260424T203000Z
DTEND:20260424T222800Z
LOCATION:Sag Harbor Cinema Theater 2, 90 Main Street, Sag Harbor, NY, 11963
SUMMARY:Two Prosecutors
UID:620361
DTSTAMP:20260424T070355Z
END:VEVENT
END:VCALENDAR
