BEGIN:VCALENDAR
BEGIN:VEVENT
DESCRIPTION:\nMore Information: https://tickets.sagharborcinema.org/websales/pages/TicketSearchCriteria.aspx?evtInfo=620360~bd26ead1-7722-4224-a8b5-ec4b638bcf23&\n\n
DTSTART:20260430T234500Z
DTEND:20260501T015200Z
LOCATION:Sag Harbor Cinema Theater 2, 90 Main Street, Sag Harbor, NY, 11963
SUMMARY:Michael
UID:620360
DTSTAMP:20260421T143003Z
END:VEVENT
END:VCALENDAR
