BEGIN:VCALENDAR
BEGIN:VEVENT
DESCRIPTION:\nMore Information: https://tickets.sagharborcinema.org/websales/pages/TicketSearchCriteria.aspx?evtInfo=620358~bd26ead1-7722-4224-a8b5-ec4b638bcf23&\n\n
DTSTART:20260429T201500Z
DTEND:20260429T222200Z
LOCATION:Sag Harbor Cinema Theater 1, 90 Main Street, Sag Harbor, NY, 11963
SUMMARY:Michael
UID:620358
DTSTAMP:20260421T143124Z
END:VEVENT
END:VCALENDAR
