BEGIN:VCALENDAR
BEGIN:VEVENT
DESCRIPTION:\nMore Information: https://tickets.sagharborcinema.org/websales/pages/TicketSearchCriteria.aspx?evtInfo=620357~bd26ead1-7722-4224-a8b5-ec4b638bcf23&\n\n
DTSTART:20260429T231500Z
DTEND:20260430T012200Z
LOCATION:Sag Harbor Cinema Theater 1, 90 Main Street, Sag Harbor, NY, 11963
SUMMARY:Michael
UID:620357
DTSTAMP:20260421T142810Z
END:VEVENT
END:VCALENDAR
