BEGIN:VCALENDAR
BEGIN:VEVENT
DESCRIPTION:\nMore Information: https://tickets.sagharborcinema.org/websales/pages/TicketSearchCriteria.aspx?evtInfo=618772~bd26ead1-7722-4224-a8b5-ec4b638bcf23&\n\n
DTSTART:20260426T174500Z
DTEND:20260426T195200Z
LOCATION:Sag Harbor Cinema Theater 1, 90 Main Street, Sag Harbor, NY, 11963
SUMMARY:Michael
UID:618772
DTSTAMP:20260421T141257Z
END:VEVENT
END:VCALENDAR
