BEGIN:VCALENDAR
BEGIN:VEVENT
DESCRIPTION:\nMore Information: https://tickets.sagharborcinema.org/websales/pages/TicketSearchCriteria.aspx?evtInfo=618770~bd26ead1-7722-4224-a8b5-ec4b638bcf23&\n\n
DTSTART:20260425T213000Z
DTEND:20260425T233700Z
LOCATION:Sag Harbor Cinema Theater 1, 90 Main Street, Sag Harbor, NY, 11963
SUMMARY:Michael
UID:618770
DTSTAMP:20260421T143034Z
END:VEVENT
END:VCALENDAR
