BEGIN:VCALENDAR
BEGIN:VEVENT
DESCRIPTION:\nMore Information: https://tickets.sagharborcinema.org/websales/pages/TicketSearchCriteria.aspx?evtInfo=618767~bd26ead1-7722-4224-a8b5-ec4b638bcf23&\n\n
DTSTART:20260424T210000Z
DTEND:20260424T230700Z
LOCATION:Sag Harbor Cinema Theater 1, 90 Main Street, Sag Harbor, NY, 11963
SUMMARY:Michael
UID:618767
DTSTAMP:20260421T143049Z
END:VEVENT
END:VCALENDAR
