BEGIN:VCALENDAR
BEGIN:VEVENT
DESCRIPTION:\nMore Information: https://tickets.sagharborcinema.org/websales/pages/TicketSearchCriteria.aspx?evtInfo=618128~bd26ead1-7722-4224-a8b5-ec4b638bcf23&\n\n
DTSTART:20260418T160000Z
DTEND:20260418T181100Z
LOCATION:Sag Harbor Cinema Theater 2, 90 Main Street, Sag Harbor, NY, 11963
SUMMARY:Star Wars: Episode VI - Return of the Jedi
UID:618128
DTSTAMP:20260420T033345Z
END:VEVENT
END:VCALENDAR
