BEGIN:VCALENDAR
BEGIN:VEVENT
DESCRIPTION:\nMore Information: https://tickets.sagharborcinema.org/websales/pages/TicketSearchCriteria.aspx?evtInfo=618084~bd26ead1-7722-4224-a8b5-ec4b638bcf23&\n\n
DTSTART:20260418T233000Z
DTEND:20260419T020600Z
LOCATION:Sag Harbor Cinema Theater 2, 90 Main Street, Sag Harbor, NY, 11963
SUMMARY:Project Hail Mary
UID:618084
DTSTAMP:20260420T032928Z
END:VEVENT
END:VCALENDAR
